BEGIN:VCALENDAR
VERSION:2.0
PRODID:-// - ECPv6.15.18//NONSGML v1.0//EN
CALSCALE:GREGORIAN
METHOD:PUBLISH
X-ORIGINAL-URL:https://www.heartofworship.nl
X-WR-CALDESC:Evenementen voor 
REFRESH-INTERVAL;VALUE=DURATION:PT1H
X-Robots-Tag:noindex
X-PUBLISHED-TTL:PT1H
BEGIN:VTIMEZONE
TZID:Europe/Amsterdam
BEGIN:DAYLIGHT
TZOFFSETFROM:+0100
TZOFFSETTO:+0200
TZNAME:CEST
DTSTART:20240331T010000
END:DAYLIGHT
BEGIN:STANDARD
TZOFFSETFROM:+0200
TZOFFSETTO:+0100
TZNAME:CET
DTSTART:20241027T010000
END:STANDARD
BEGIN:DAYLIGHT
TZOFFSETFROM:+0100
TZOFFSETTO:+0200
TZNAME:CEST
DTSTART:20250330T010000
END:DAYLIGHT
BEGIN:STANDARD
TZOFFSETFROM:+0200
TZOFFSETTO:+0100
TZNAME:CET
DTSTART:20251026T010000
END:STANDARD
BEGIN:DAYLIGHT
TZOFFSETFROM:+0100
TZOFFSETTO:+0200
TZNAME:CEST
DTSTART:20260329T010000
END:DAYLIGHT
BEGIN:STANDARD
TZOFFSETFROM:+0200
TZOFFSETTO:+0100
TZNAME:CET
DTSTART:20261025T010000
END:STANDARD
END:VTIMEZONE
BEGIN:VEVENT
DTSTART;TZID=Europe/Amsterdam:20250411T193000
DTEND;TZID=Europe/Amsterdam:20250411T220000
DTSTAMP:20260423T230724
CREATED:20250221T115348Z
LAST-MODIFIED:20250326T181233Z
UID:2509-1744399800-1744408800@www.heartofworship.nl
SUMMARY:Julian Zieleman (11 april)
DESCRIPTION:Wees welkom bij een nieuwe Heart of Worship avond waarin we de HEER gaan aanbidden! \nJulian zieleman zal deze avond spreken\, we zien er naar uit wat hij gaat delen! \nVanaf 19:30 is er inloop en 20:00 starten we. Wil je graag meebidden in de voorbede wees dan voor 19:30 aanwezig. Na het eind van de avond is er ruimte om te ontmoeten. \n\nInloop: 19:30\nVoorbede: 19:30 – 19:45\nStart: 20:00\nEinde: 21:30\n\nHopelijk zien we je dan!
URL:https://www.heartofworship.nl/evenement/julian-zieleman-11-april/
LOCATION:Zwolle – Jupiterstraat 8-A\, Jupiterstraat 8-A\, Zwolle\, Overijssel\, 8022 RK\, Nederland
CATEGORIES:Aanbidden
ATTACH;FMTTYPE=image/jpeg:https://www.heartofworship.nl/wp-content/uploads/2025/02/IMG-20250326-WA0004.jpg
ORGANIZER;CN="Heart of Worship":MAILTO:info@heartofworship.nl
END:VEVENT
END:VCALENDAR