BEGIN:VCALENDAR
VERSION:2.0
PRODID:-// - ECPv6.15.18//NONSGML v1.0//EN
CALSCALE:GREGORIAN
METHOD:PUBLISH
X-ORIGINAL-URL:https://www.heartofworship.nl
X-WR-CALDESC:Evenementen voor 
REFRESH-INTERVAL;VALUE=DURATION:PT1H
X-Robots-Tag:noindex
X-PUBLISHED-TTL:PT1H
BEGIN:VTIMEZONE
TZID:Europe/Amsterdam
BEGIN:DAYLIGHT
TZOFFSETFROM:+0100
TZOFFSETTO:+0200
TZNAME:CEST
DTSTART:20210328T010000
END:DAYLIGHT
BEGIN:STANDARD
TZOFFSETFROM:+0200
TZOFFSETTO:+0100
TZNAME:CET
DTSTART:20211031T010000
END:STANDARD
BEGIN:DAYLIGHT
TZOFFSETFROM:+0100
TZOFFSETTO:+0200
TZNAME:CEST
DTSTART:20220327T010000
END:DAYLIGHT
BEGIN:STANDARD
TZOFFSETFROM:+0200
TZOFFSETTO:+0100
TZNAME:CET
DTSTART:20221030T010000
END:STANDARD
BEGIN:DAYLIGHT
TZOFFSETFROM:+0100
TZOFFSETTO:+0200
TZNAME:CEST
DTSTART:20230326T010000
END:DAYLIGHT
BEGIN:STANDARD
TZOFFSETFROM:+0200
TZOFFSETTO:+0100
TZNAME:CET
DTSTART:20231029T010000
END:STANDARD
END:VTIMEZONE
BEGIN:VEVENT
DTSTART;TZID=Europe/Amsterdam:20221125T190000
DTEND;TZID=Europe/Amsterdam:20221125T220000
DTSTAMP:20260422T021729
CREATED:20221117T160554Z
LAST-MODIFIED:20221117T160612Z
UID:1351-1669402800-1669413600@www.heartofworship.nl
SUMMARY:HOW-bemoedigen-25-november
DESCRIPTION:Vrijdag 25 November komen we weer samen om God te aanbidden en Hem groot te maken door getuigenissen heen. \nAgenda:\n\n19:00: inloop\n19:30: start samenkomst\n22:00: einde samenkomst\n\nWe zouden het erg waarderen als je je even aanmeld via deze pagina\, zodat we weten bij de opbouw en de catering wat te verwachten aan mensen 🙂 \nNa afloop is er tijd om gezellig na te kletsen met wat lekkers erbij!\nWees erbij!
URL:https://www.heartofworship.nl/evenement/how-bemoedigen-25-november/
LOCATION:Zwolle – Jupiterstraat 8-A\, Jupiterstraat 8-A\, Zwolle\, Overijssel\, 8022 RK\, Nederland
CATEGORIES:Bemoedigen
ATTACH;FMTTYPE=image/png:https://www.heartofworship.nl/wp-content/uploads/2021/12/Evenement-categorie-bemoedigen.png
ORGANIZER;CN="Heart of Worship":MAILTO:info@heartofworship.nl
END:VEVENT
BEGIN:VEVENT
DTSTART;TZID=Europe/Amsterdam:20221111T190000
DTEND;TZID=Europe/Amsterdam:20221111T220000
DTSTAMP:20260422T021729
CREATED:20221028T115626Z
LAST-MODIFIED:20221102T121203Z
UID:1341-1668193200-1668204000@www.heartofworship.nl
SUMMARY:HOW-aanbidden-11-november
DESCRIPTION:Vrijdag 11 november organiseert Heart of Worship een samenkomst!\nWees welkom bij een nieuwe Heart of Worship avond!\nDeze avond zal Rene het woord met ons delen. \nSpreker: Rene William \nAgenda:\n\n19:00: inloop\n19:30: start samenkomst\n22:00: einde samenkomst\n\nNa afloop is er tijd om gezellig na te kletsen met wat lekkers erbij!\nWees erbij!
URL:https://www.heartofworship.nl/evenement/how-aanbidden-11-november/
LOCATION:Zwolle – Jupiterstraat 8-A\, Jupiterstraat 8-A\, Zwolle\, Overijssel\, 8022 RK\, Nederland
ATTACH;FMTTYPE=image/png:https://www.heartofworship.nl/wp-content/uploads/2022/01/Evenement-categorie-aanbidden.png
ORGANIZER;CN="Heart of Worship":MAILTO:info@heartofworship.nl
END:VEVENT
BEGIN:VEVENT
DTSTART;TZID=Europe/Amsterdam:20221028T190000
DTEND;TZID=Europe/Amsterdam:20221028T220000
DTSTAMP:20260422T021729
CREATED:20220810T062528Z
LAST-MODIFIED:20221019T165550Z
UID:1098-1666983600-1666994400@www.heartofworship.nl
SUMMARY:HOW-aanbidden-28-oktober
DESCRIPTION:Vrijdag 28 oktober organiseert Heart of Worship een samenkomst!\nWees welkom bij een nieuwe Heart of Worship avond!\nDeze avond zal Kumar het woord met ons delen. \nSpreker: Kumar Qualm \nAgenda:\n\n19:00: inloop\n19:30: start samenkomst\n22:00: einde samenkomst\n\nNa afloop is er tijd om gezellig na te kletsen met wat lekkers erbij!\nWees erbij!
URL:https://www.heartofworship.nl/evenement/how-aanbidden-28-oktober/
LOCATION:Zwolle – Jupiterstraat 8-A\, Jupiterstraat 8-A\, Zwolle\, Overijssel\, 8022 RK\, Nederland
CATEGORIES:Onderwijzen
ATTACH;FMTTYPE=image/png:https://www.heartofworship.nl/wp-content/uploads/2022/01/Evenement-categorie-onderwijzen.png
ORGANIZER;CN="Heart of Worship":MAILTO:info@heartofworship.nl
END:VEVENT
BEGIN:VEVENT
DTSTART;TZID=Europe/Amsterdam:20221014T190000
DTEND;TZID=Europe/Amsterdam:20221014T220000
DTSTAMP:20260422T021729
CREATED:20220810T062232Z
LAST-MODIFIED:20221010T155801Z
UID:1096-1665774000-1665784800@www.heartofworship.nl
SUMMARY:HOW-aanbidden-14-oktober
DESCRIPTION:Wees welkom bij een nieuwe Heart of Worship avond die in het teken staat van God aanbidden\, gebed en ruimte voor getuigenissen.\n\nAgenda:\n\n19:00: inloop\n19:30: start samenkomst\n22:00: einde samenkomst\n\nNa afloop is er tijd om gezellig na te kletsen met wat lekkers erbij!\nWees erbij!
URL:https://www.heartofworship.nl/evenement/how-aanbidden-14-oktober/
LOCATION:Zwolle – Jupiterstraat 8-A\, Jupiterstraat 8-A\, Zwolle\, Overijssel\, 8022 RK\, Nederland
CATEGORIES:Aanbidden
ATTACH;FMTTYPE=image/png:https://www.heartofworship.nl/wp-content/uploads/2022/01/Evenement-categorie-aanbidden.png
ORGANIZER;CN="Heart of Worship":MAILTO:info@heartofworship.nl
END:VEVENT
BEGIN:VEVENT
DTSTART;TZID=Europe/Amsterdam:20220930T190000
DTEND;TZID=Europe/Amsterdam:20220930T220000
DTSTAMP:20260422T021729
CREATED:20220810T061622Z
LAST-MODIFIED:20220918T132852Z
UID:1094-1664564400-1664575200@www.heartofworship.nl
SUMMARY:HOW-onderwijzen-30-september
DESCRIPTION:Wees welkom bij een nieuwe Heart of Worship avond met als thema: ‘Spreken en ontvangen vanuit de juiste bron‘. Waar Dennis Eiland vanuit Gods woord wil laten zien hoe je de stem van de HEER kunt leren herkennen en verstaan.\n\nAgenda:\n\n19:00: inloop\n19:30: start samenkomst\n22:00: einde samenkomst\n\nNa afloop is er tijd om gezellig na te kletsen met wat lekkers erbij!\nWees erbij!
URL:https://www.heartofworship.nl/evenement/how-onderwijzen-30-september/
LOCATION:Zwolle – Zerboltstraat 63\, Zerboltstraat 63\, Zwolle\, Overijssel\, 8022RW\, Nederland
CATEGORIES:Onderwijzen
ATTACH;FMTTYPE=image/png:https://www.heartofworship.nl/wp-content/uploads/2022/01/Evenement-categorie-onderwijzen.png
ORGANIZER;CN="Heart of Worship":MAILTO:info@heartofworship.nl
END:VEVENT
BEGIN:VEVENT
DTSTART;TZID=Europe/Amsterdam:20220916T190000
DTEND;TZID=Europe/Amsterdam:20220916T220000
DTSTAMP:20260422T021729
CREATED:20220902T053753Z
LAST-MODIFIED:20220902T053753Z
UID:1160-1663354800-1663365600@www.heartofworship.nl
SUMMARY:HOW-aanbidden-16-september
DESCRIPTION:Wees welkom bij een nieuwe Heart of Worship avond die in het teken staat van God aanbidden\, gebed en ruimte voor getuigenissen.\n\nAgenda:\n\n19:00: inloop\n19:30: start samenkomst\n22:00: einde samenkomst\n\nNa afloop is er tijd om gezellig na te kletsen met wat lekkers erbij!\n\nWees erbij!
URL:https://www.heartofworship.nl/evenement/how-aanbidden-16-september/
LOCATION:Zwolle – Zerboltstraat 63\, Zerboltstraat 63\, Zwolle\, Overijssel\, 8022RW\, Nederland
CATEGORIES:Aanbidden
ATTACH;FMTTYPE=image/png:https://www.heartofworship.nl/wp-content/uploads/2022/01/Evenement-categorie-aanbidden.png
ORGANIZER;CN="Heart of Worship":MAILTO:info@heartofworship.nl
END:VEVENT
BEGIN:VEVENT
DTSTART;TZID=Europe/Amsterdam:20220902T190000
DTEND;TZID=Europe/Amsterdam:20220902T220000
DTSTAMP:20260422T021729
CREATED:20220810T060819Z
LAST-MODIFIED:20220820T144825Z
UID:1091-1662145200-1662156000@www.heartofworship.nl
SUMMARY:HOW-onderwijzen-2-september
DESCRIPTION:Vrijdag 2 september organiseert Heart of Worship een samenkomst! Wees welkom bij een nieuwe Heart of Worship avond! Deze avond zal Emo het woord met ons delen. \nSpreker: Emo Rahajaan \nAgenda: \n\n19:00: inloop\n19:30: start samenkomst\n21:30: einde samenkomst\n\nNa afloop is er tijd om gezellig na te kletsen met wat lekkers erbij! \nWees erbij!
URL:https://www.heartofworship.nl/evenement/how-onderwijzen-2-september/
LOCATION:Zwolle – Zerboltstraat 63\, Zerboltstraat 63\, Zwolle\, Overijssel\, 8022RW\, Nederland
CATEGORIES:Onderwijzen
ATTACH;FMTTYPE=image/png:https://www.heartofworship.nl/wp-content/uploads/2022/01/Evenement-categorie-onderwijzen.png
ORGANIZER;CN="Heart of Worship":MAILTO:info@heartofworship.nl
END:VEVENT
BEGIN:VEVENT
DTSTART;TZID=Europe/Amsterdam:20220819T190000
DTEND;TZID=Europe/Amsterdam:20220819T220000
DTSTAMP:20260422T021729
CREATED:20220616T194141Z
LAST-MODIFIED:20220812T115337Z
UID:1063-1660935600-1660946400@www.heartofworship.nl
SUMMARY:HOW-aanbidden-19-augustus
DESCRIPTION:Vrijdag 19 augustus organiseert Heart of Worship na de zomerstop weer een Heart of Worship avond. Wees welkom op deze avond die in het teken staat van God aanbidden en het bemoedigen van elkaar door getuigenissen en gebed. \nAgenda: \n\n18:30 Eten\n19:10 Inloop\n19:30: start samenkomst\n21:30: einde samenkomst\n\nOp deze avond gaan we ook weer gezellig samen eten\, zodat we weer een goede start kunnen maken na de zomerstop. Wil je graag gezellig mee-eten? Zet dan even achter je naam (eten) bij het aanmelden via de website. \nNa afloop is er tijd om gezellig na te kletsen met wat lekkers erbij!\nWees erbij! Minder weergeven
URL:https://www.heartofworship.nl/evenement/how-aanbidden-19-augustus/
LOCATION:Zwolle – Zerboltstraat 63\, Zerboltstraat 63\, Zwolle\, Overijssel\, 8022RW\, Nederland
CATEGORIES:Aanbidden
ATTACH;FMTTYPE=image/png:https://www.heartofworship.nl/wp-content/uploads/2022/01/Evenement-categorie-aanbidden.png
ORGANIZER;CN="Heart of Worship":MAILTO:info@heartofworship.nl
END:VEVENT
BEGIN:VEVENT
DTSTART;TZID=Europe/Amsterdam:20220708T190000
DTEND;TZID=Europe/Amsterdam:20220708T220000
DTSTAMP:20260422T021729
CREATED:20220616T193824Z
LAST-MODIFIED:20220629T092327Z
UID:1060-1657306800-1657317600@www.heartofworship.nl
SUMMARY:HOW-aanbidden-8-juli
DESCRIPTION:Vrijdag 8 Juli organiseert Heart of Worship een samenkomst! Wees welkom bij een nieuwe Heart of Worship avond. \nDeze avond zal Dennis het woord met ons delen en we willen ook samen het Heilig Avondmaal vieren met elkaar! \n\nSpreker: Dennis Eiland\nOnderwerp:\n\nVerder houden we na deze samenkomst een korte zomerstop tot 19 augustus! We willen deze samenkomst met elkaar even goed afsluiten! \nDaarom lijkt het ons leuk om gezellig samen te gaan eten. En na afloop is er een kampvuur! \nWil je graag gezellig mee-eten? \nDan kan je je aanmelden via onderstaand aanmeldformulier door achter je naam (eten) neer te zetten. \nAgenda: \n\n18:30: Eten\n19:00: inloop\n19:30: start samenkomst\n21:30: einde samenkomst\n\nNa afloop is er tijd om gezellig na te kletsen met wat lekkers erbij! \nWees erbij!
URL:https://www.heartofworship.nl/evenement/how-aanbidden-8-juli/
LOCATION:Zwolle – Zerboltstraat 63\, Zerboltstraat 63\, Zwolle\, Overijssel\, 8022RW\, Nederland
CATEGORIES:Aanbidden
ATTACH;FMTTYPE=image/png:https://www.heartofworship.nl/wp-content/uploads/2022/01/Evenement-categorie-aanbidden.png
ORGANIZER;CN="Heart of Worship":MAILTO:info@heartofworship.nl
END:VEVENT
BEGIN:VEVENT
DTSTART;TZID=Europe/Amsterdam:20220624T190000
DTEND;TZID=Europe/Amsterdam:20220624T190000
DTSTAMP:20260422T021729
CREATED:20220616T193327Z
LAST-MODIFIED:20220617T111734Z
UID:1055-1656097200-1656097200@www.heartofworship.nl
SUMMARY:HOW-onderwijzen-24-juni
DESCRIPTION:Vrijdag 24 Juni organiseert Heart of Worship een samenkomst!  Wees welkom bij een nieuwe Heart of Worship avond! Deze avond zal Jonathan Peter Brummel het woord met ons delen. \n\nSpreker: Jonathan Peter Brummel\nOnderwerp: De kracht van een getransformeerd leven!!\n\nAgenda: \n\n19:00: inloop\n19:30: start samenkomst\n21:30: einde samenkomst\nNa afloop is er tijd om gezellig na te kletsen met wat lekkers erbij!\n\nWees erbij!
URL:https://www.heartofworship.nl/evenement/how-onderwijzen-24-juni/
LOCATION:Zwolle – Zerboltstraat 63\, Zerboltstraat 63\, Zwolle\, Overijssel\, 8022RW\, Nederland
CATEGORIES:Onderwijzen
ATTACH;FMTTYPE=image/png:https://www.heartofworship.nl/wp-content/uploads/2022/01/Evenement-categorie-onderwijzen.png
ORGANIZER;CN="Heart of Worship":MAILTO:info@heartofworship.nl
END:VEVENT
BEGIN:VEVENT
DTSTART;TZID=Europe/Amsterdam:20220610T183000
DTEND;TZID=Europe/Amsterdam:20220610T220000
DTSTAMP:20260422T021729
CREATED:20220523T162247Z
LAST-MODIFIED:20220608T110650Z
UID:1030-1654885800-1654898400@www.heartofworship.nl
SUMMARY:HOW-bemoedigen-10-juni
DESCRIPTION:Vrijdag 10 Juni organiseert Heart of Worship een samenkomst (Met barbecue)! \nWees welkom bij een nieuwe Heart of Worship avond die in het teken staat van God aanbidden\, gebed en elkaar bemoedigen door getuigenissen (bijvoorbeeld door het festival Opwekking). \nAgenda:\n• 18:30 barbeque\n. 19: 30 Inloop\n• 20:00: start samenkomst\n• 21:30: einde samenkomst \nWil je mee eten tijdens de BBQ? \nMeld je dan even aan via de website door achter je naam ‘BBQ’ te zetten\, zie voorbeeld: [Naam (BBQ)] \nNa afloop is er tijd om gezellig na te kletsen met wat lekkers erbij! \nWees erbij!
URL:https://www.heartofworship.nl/evenement/how-bemoedigen-10-juni/
LOCATION:Zwolle – Zerboltstraat 63\, Zerboltstraat 63\, Zwolle\, Overijssel\, 8022RW\, Nederland
CATEGORIES:Bemoedigen
ATTACH;FMTTYPE=image/png:https://www.heartofworship.nl/wp-content/uploads/2021/12/Evenement-categorie-bemoedigen.png
ORGANIZER;CN="Heart of Worship":MAILTO:info@heartofworship.nl
END:VEVENT
BEGIN:VEVENT
DTSTART;TZID=Europe/Amsterdam:20220527T190000
DTEND;TZID=Europe/Amsterdam:20220527T220000
DTSTAMP:20260422T021729
CREATED:20220403T151027Z
LAST-MODIFIED:20220523T160514Z
UID:973-1653678000-1653688800@www.heartofworship.nl
SUMMARY:HOW-bemoedigen-27-mei
DESCRIPTION:Wees welkom bij een nieuwe Heart of Worship avond! \nRuben Martinus zal aankomende vrijdag spreken over het onderwerp: Jij bent een geestelijke steen voor de bouw van een geestelijk huis. \nAgenda: \n\n19:00: inloop\n19:30: start samenkomst\n21:30: einde samenkomst\n\nNa afloop is er tijd om gezellig na te kletsen met wat lekkers erbij!\nWees erbij!
URL:https://www.heartofworship.nl/evenement/how-bemoedigen-27-mei/
LOCATION:Zwolle – Zerboltstraat 63\, Zerboltstraat 63\, Zwolle\, Overijssel\, 8022RW\, Nederland
CATEGORIES:Bemoedigen
ATTACH;FMTTYPE=image/png:https://www.heartofworship.nl/wp-content/uploads/2021/12/Evenement-categorie-bemoedigen.png
ORGANIZER;CN="Heart of Worship":MAILTO:info@heartofworship.nl
END:VEVENT
BEGIN:VEVENT
DTSTART;TZID=Europe/Amsterdam:20220520T190000
DTEND;TZID=Europe/Amsterdam:20220520T220000
DTSTAMP:20260422T021729
CREATED:20220403T150726Z
LAST-MODIFIED:20220503T170059Z
UID:971-1653073200-1653084000@www.heartofworship.nl
SUMMARY:HOW-onderwijzen-20-mei
DESCRIPTION:Wees welkom bij een nieuwe Heart of Worship avond! \nDeze avond zal in het teken staan van de Heilige Geest. Dennis Eiland zal een bijbelstudie geven over wie de Heilige Geest is en hoe deze door de bijbel heen zijn taak vervuld. \nAgenda: \n\n19:00: inloop\n19:30: start samenkomst\n21:30: einde samenkomst\n\nNa afloop is er tijd om gezellig na te kletsen met wat lekkers erbij!\nWees erbij!
URL:https://www.heartofworship.nl/evenement/how-onderwijzen-20-mei/
LOCATION:Zwolle – Zerboltstraat 63\, Zerboltstraat 63\, Zwolle\, Overijssel\, 8022RW\, Nederland
CATEGORIES:Onderwijzen
ATTACH;FMTTYPE=image/png:https://www.heartofworship.nl/wp-content/uploads/2022/01/Evenement-categorie-onderwijzen.png
ORGANIZER;CN="Heart of Worship":MAILTO:info@heartofworship.nl
END:VEVENT
BEGIN:VEVENT
DTSTART;TZID=Europe/Amsterdam:20220506T190000
DTEND;TZID=Europe/Amsterdam:20220506T220000
DTSTAMP:20260422T021729
CREATED:20220403T150524Z
LAST-MODIFIED:20220503T164708Z
UID:969-1651863600-1651874400@www.heartofworship.nl
SUMMARY:HOW-aanbidden-6-mei
DESCRIPTION:Vrijdag 6 mei organiseert Heart of Worship een samenkomst!\nWees welkom bij een nieuwe Heart of Worship avond die in het teken staat van God aanbidden\, elkaar bemoedigen door getuigenissen en gebed. \nAgenda: \n\n19:00: inloop\n19:30: start samenkomst\n21:30: einde samenkomst\n\nNa afloop is er tijd om gezellig na te kletsen met wat lekkers erbij!\nWees erbij!
URL:https://www.heartofworship.nl/evenement/how-aanbidden-6-mei/
LOCATION:Zwolle – Zerboltstraat 63\, Zerboltstraat 63\, Zwolle\, Overijssel\, 8022RW\, Nederland
CATEGORIES:Aanbidden
ATTACH;FMTTYPE=image/png:https://www.heartofworship.nl/wp-content/uploads/2022/01/Evenement-categorie-aanbidden.png
ORGANIZER;CN="Heart of Worship":MAILTO:info@heartofworship.nl
END:VEVENT
BEGIN:VEVENT
DTSTART;TZID=Europe/Amsterdam:20220415T190000
DTEND;TZID=Europe/Amsterdam:20220415T220000
DTSTAMP:20260422T021729
CREATED:20220403T145810Z
LAST-MODIFIED:20220406T164116Z
UID:965-1650049200-1650060000@www.heartofworship.nl
SUMMARY:HOW-bemoedigen-15-april
DESCRIPTION:Vrijdag 15 april  (op Goede Vrijdag) organiseert Heart of Worship een samenkomst!\nWees welkom bij een nieuwe Heart of Worship avond die in het teken staat van God aanbidden\, elkaar bemoedigen door getuigenissen en gebed. \nJulian Zieleman gaat ons deze avond meer vertellen over de visie van Heart of Worship!\nVerder gaat Dennis Eiland ons door de bijbelteksten heen uitleggen wat Goede Vrijdag betekent!\nOok willen we herdenken wat de Here Jezus voor ons heeft gedaan door het vieren van het Heilig avondmaal. \nAgenda: \n\n19:00: inloop\n19:30: start samenkomst\n22:00: einde samenkomst\n\nNa afloop is er tijd om gezellig na te kletsen met wat lekkers erbij!\nWees erbij!
URL:https://www.heartofworship.nl/evenement/how-bemoedigen-15-april/
LOCATION:Zwolle – Zerboltstraat 63\, Zerboltstraat 63\, Zwolle\, Overijssel\, 8022RW\, Nederland
CATEGORIES:Bemoedigen
ATTACH;FMTTYPE=image/png:https://www.heartofworship.nl/wp-content/uploads/2021/12/Evenement-categorie-bemoedigen.png
ORGANIZER;CN="Heart of Worship":MAILTO:info@heartofworship.nl
END:VEVENT
BEGIN:VEVENT
DTSTART;TZID=Europe/Amsterdam:20220401T190000
DTEND;TZID=Europe/Amsterdam:20220401T220000
DTSTAMP:20260422T021729
CREATED:20220228T175700Z
LAST-MODIFIED:20220321T191025Z
UID:912-1648839600-1648850400@www.heartofworship.nl
SUMMARY:HOW-onderwijzen-1-april
DESCRIPTION:Wees welkom bij een nieuwe Heart of Worship avond waar de spreker Hans Agteres het woord gaat delen over het thema ‘Onder de vleugels van God‘. \nAgenda: \n\n19:00: inloop\n19:30: start samenkomst\n21:30: napraten\n22:00: einde samenkomst\n\nNa afloop is er tijd om gezellig na te kletsen met wat lekkers erbij\, meld je snel aan en tot dan!
URL:https://www.heartofworship.nl/evenement/how-onderwijzen-1-april/
LOCATION:Zwolle – Zerboltstraat 63\, Zerboltstraat 63\, Zwolle\, Overijssel\, 8022RW\, Nederland
CATEGORIES:Onderwijzen
ATTACH;FMTTYPE=image/png:https://www.heartofworship.nl/wp-content/uploads/2022/01/Evenement-categorie-onderwijzen.png
ORGANIZER;CN="Heart of Worship":MAILTO:info@heartofworship.nl
END:VEVENT
BEGIN:VEVENT
DTSTART;TZID=Europe/Amsterdam:20220318T190000
DTEND;TZID=Europe/Amsterdam:20220318T220000
DTSTAMP:20260422T021729
CREATED:20220228T174249Z
LAST-MODIFIED:20220228T174359Z
UID:906-1647630000-1647640800@www.heartofworship.nl
SUMMARY:HOW-aanbidden-18-maart
DESCRIPTION:Wees welkom bij een nieuwe Heart of Worship avond die in het teken staat van God aanbidden\, elkaar bemoedigen door getuigenissen en gebed. Ook willen we herdenken wat de Here Jezus voor ons heeft gedaan door het vieren van het Heilig avondmaal.\nAgenda:\n\n19:00: inloop\n19:30: start samenkomst\n22:00: einde samenkomst\n\nNa afloop is er tijd om gezellig na te kletsen met wat lekkers erbij!\nWees erbij!
URL:https://www.heartofworship.nl/evenement/how-aanbidden-18-maart/
LOCATION:Zwolle – Zerboltstraat 63\, Zerboltstraat 63\, Zwolle\, Overijssel\, 8022RW\, Nederland
CATEGORIES:Aanbidden
ATTACH;FMTTYPE=image/png:https://www.heartofworship.nl/wp-content/uploads/2022/01/Evenement-categorie-aanbidden.png
ORGANIZER;CN="Heart of Worship":MAILTO:info@heartofworship.nl
END:VEVENT
BEGIN:VEVENT
DTSTART;TZID=Europe/Amsterdam:20220304T190000
DTEND;TZID=Europe/Amsterdam:20220304T220000
DTSTAMP:20260422T021729
CREATED:20220127T171647Z
LAST-MODIFIED:20220226T170402Z
UID:689-1646420400-1646431200@www.heartofworship.nl
SUMMARY:HOW-onderwijzen-4-maart
DESCRIPTION:Wees welkom bij een nieuwe Heart of Worship avond met als thema: ‘Het mysterie van het kruis!‘. Waar Rene Martinus vanuit Gods Woord je wil meenemen hoe de overwinning aan het kruis door de bijbel heen terugkomt.\n\nAgenda:\n\n19:00: inloop\n19:30: start samenkomst\n22:00: einde samenkomst\n\nNa afloop is er tijd om gezellig na te kletsen met wat lekkers erbij!\nWees erbij!
URL:https://www.heartofworship.nl/evenement/how-onderwijzen-4-maart/
LOCATION:Zwolle – Zerboltstraat 63\, Zerboltstraat 63\, Zwolle\, Overijssel\, 8022RW\, Nederland
CATEGORIES:Onderwijzen
ATTACH;FMTTYPE=image/png:https://www.heartofworship.nl/wp-content/uploads/2022/01/Evenement-categorie-onderwijzen.png
ORGANIZER;CN="Heart of Worship":MAILTO:info@heartofworship.nl
END:VEVENT
BEGIN:VEVENT
DTSTART;TZID=Europe/Amsterdam:20220225T190000
DTEND;TZID=Europe/Amsterdam:20220225T220000
DTSTAMP:20260422T021729
CREATED:20220127T170416Z
LAST-MODIFIED:20220219T075822Z
UID:686-1645815600-1645826400@www.heartofworship.nl
SUMMARY:HOW-onderwijzen-25-februari
DESCRIPTION:Wees welkom bij een nieuwe Heart of Worship avond met als thema: ‘De kern van de Bijbelse boodschap‘. Waar Rico Vledder vanuit Gods Woord wil laten zien wat de kern van de bijbelse boodschap is.\n\nAgenda:\n\n18:30: avondeten\n19:15: inloop\n19:30: start samenkomst\n22:00: einde samenkomst\n\n\nMee eten?\nIn de avond zal er ook avondeten zijn\, wil je mee eten? Dat kan!\n\nDoe dit door via onderstaande inschrijving achter je naam (eten) neer te zetten.\n\n\nNa afloop is er tijd om gezellig na te kletsen met wat lekkers erbij!\nWees erbij!
URL:https://www.heartofworship.nl/evenement/how-onderwijzen-25-februari/
LOCATION:Zwolle – Zerboltstraat 63\, Zerboltstraat 63\, Zwolle\, Overijssel\, 8022RW\, Nederland
CATEGORIES:Onderwijzen
ATTACH;FMTTYPE=image/png:https://www.heartofworship.nl/wp-content/uploads/2022/01/Evenement-categorie-onderwijzen.png
ORGANIZER;CN="Heart of Worship":MAILTO:info@heartofworship.nl
END:VEVENT
BEGIN:VEVENT
DTSTART;TZID=Europe/Amsterdam:20220204T190000
DTEND;TZID=Europe/Amsterdam:20220204T220000
DTSTAMP:20260422T021729
CREATED:20220124T171355Z
LAST-MODIFIED:20220127T165658Z
UID:669-1644001200-1644012000@www.heartofworship.nl
SUMMARY:HOW-onderwijzen-4-februari
DESCRIPTION:Wees welkom bij een nieuwe Heart of Worship avond met als thema: ‘Geestelijke strijd‘. Waar Jos & Dennis vanuit Gods Woord meer inzicht willen geven in de realiteit van de geestelijke wereld en hoe je met praktische bijbelteksten jezelf hier tegen kunt wapenen.\n\nAgenda:\n\n18:30: avondeten\n19:15: inloop\n19:30: start samenkomst\n22:00: einde samenkomst\n\n\nMee eten?\nIn de avond zal er ook avondeten zijn\, wil je mee eten? Dat kan!\n\nDoe dit door via onderstaande inschrijving achter je naam (eten) neer te zetten.\n\n\nNa afloop is er tijd om gezellig na te kletsen met wat lekkers erbij!\nWees erbij!
URL:https://www.heartofworship.nl/evenement/how-onderwijzen-4-februari/
LOCATION:Zwolle – Zerboltstraat 63\, Zerboltstraat 63\, Zwolle\, Overijssel\, 8022RW\, Nederland
CATEGORIES:Onderwijzen
ATTACH;FMTTYPE=image/png:https://www.heartofworship.nl/wp-content/uploads/2022/01/Evenement-categorie-onderwijzen.png
ORGANIZER;CN="Heart of Worship":MAILTO:info@heartofworship.nl
END:VEVENT
BEGIN:VEVENT
DTSTART;TZID=Europe/Amsterdam:20220122T140000
DTEND;TZID=Europe/Amsterdam:20220122T170000
DTSTAMP:20260422T021729
CREATED:20220118T165516Z
LAST-MODIFIED:20220120T201305Z
UID:618-1642860000-1642870800@www.heartofworship.nl
SUMMARY:HOW-aanbidden-22-januari
DESCRIPTION:Inhoud is beschermd.
URL:https://www.heartofworship.nl/evenement/how-aanbidden-22-januari/
LOCATION:Zwolle – Zerboltstraat 63\, Zerboltstraat 63\, Zwolle\, Overijssel\, 8022RW\, Nederland
CATEGORIES:Aanbidden
ORGANIZER;CN="Heart of Worship":MAILTO:info@heartofworship.nl
END:VEVENT
BEGIN:VEVENT
DTSTART;TZID=Europe/Amsterdam:20220108T140000
DTEND;TZID=Europe/Amsterdam:20220108T170000
DTSTAMP:20260422T021729
CREATED:20220104T171828Z
LAST-MODIFIED:20220104T172945Z
UID:362-1641650400-1641661200@www.heartofworship.nl
SUMMARY:HOW-aanbidden-8-Januari
DESCRIPTION:Inhoud is beschermd.
URL:https://www.heartofworship.nl/evenement/how-aanbidden-8-januari/
LOCATION:Zwolle – Zerboltstraat 63\, Zerboltstraat 63\, Zwolle\, Overijssel\, 8022RW\, Nederland
CATEGORIES:Aanbidden
ORGANIZER;CN="Heart of Worship":MAILTO:info@heartofworship.nl
END:VEVENT
END:VCALENDAR