BEGIN:VCALENDAR
VERSION:2.0
PRODID:-// - ECPv6.15.18//NONSGML v1.0//EN
CALSCALE:GREGORIAN
METHOD:PUBLISH
X-ORIGINAL-URL:https://www.heartofworship.nl
X-WR-CALDESC:Evenementen voor 
REFRESH-INTERVAL;VALUE=DURATION:PT1H
X-Robots-Tag:noindex
X-PUBLISHED-TTL:PT1H
BEGIN:VTIMEZONE
TZID:Europe/Amsterdam
BEGIN:DAYLIGHT
TZOFFSETFROM:+0100
TZOFFSETTO:+0200
TZNAME:CEST
DTSTART:20210328T010000
END:DAYLIGHT
BEGIN:STANDARD
TZOFFSETFROM:+0200
TZOFFSETTO:+0100
TZNAME:CET
DTSTART:20211031T010000
END:STANDARD
BEGIN:DAYLIGHT
TZOFFSETFROM:+0100
TZOFFSETTO:+0200
TZNAME:CEST
DTSTART:20220327T010000
END:DAYLIGHT
BEGIN:STANDARD
TZOFFSETFROM:+0200
TZOFFSETTO:+0100
TZNAME:CET
DTSTART:20221030T010000
END:STANDARD
BEGIN:DAYLIGHT
TZOFFSETFROM:+0100
TZOFFSETTO:+0200
TZNAME:CEST
DTSTART:20230326T010000
END:DAYLIGHT
BEGIN:STANDARD
TZOFFSETFROM:+0200
TZOFFSETTO:+0100
TZNAME:CET
DTSTART:20231029T010000
END:STANDARD
END:VTIMEZONE
BEGIN:VEVENT
DTSTART;TZID=Europe/Amsterdam:20220318T190000
DTEND;TZID=Europe/Amsterdam:20220318T220000
DTSTAMP:20260422T003820
CREATED:20220228T174249Z
LAST-MODIFIED:20220228T174359Z
UID:906-1647630000-1647640800@www.heartofworship.nl
SUMMARY:HOW-aanbidden-18-maart
DESCRIPTION:Wees welkom bij een nieuwe Heart of Worship avond die in het teken staat van God aanbidden\, elkaar bemoedigen door getuigenissen en gebed. Ook willen we herdenken wat de Here Jezus voor ons heeft gedaan door het vieren van het Heilig avondmaal.\nAgenda:\n\n19:00: inloop\n19:30: start samenkomst\n22:00: einde samenkomst\n\nNa afloop is er tijd om gezellig na te kletsen met wat lekkers erbij!\nWees erbij!
URL:https://www.heartofworship.nl/evenement/how-aanbidden-18-maart/
LOCATION:Zwolle – Zerboltstraat 63\, Zerboltstraat 63\, Zwolle\, Overijssel\, 8022RW\, Nederland
CATEGORIES:Aanbidden
ATTACH;FMTTYPE=image/png:https://www.heartofworship.nl/wp-content/uploads/2022/01/Evenement-categorie-aanbidden.png
ORGANIZER;CN="Heart of Worship":MAILTO:info@heartofworship.nl
END:VEVENT
BEGIN:VEVENT
DTSTART;TZID=Europe/Amsterdam:20220304T190000
DTEND;TZID=Europe/Amsterdam:20220304T220000
DTSTAMP:20260422T003820
CREATED:20220127T171647Z
LAST-MODIFIED:20220226T170402Z
UID:689-1646420400-1646431200@www.heartofworship.nl
SUMMARY:HOW-onderwijzen-4-maart
DESCRIPTION:Wees welkom bij een nieuwe Heart of Worship avond met als thema: ‘Het mysterie van het kruis!‘. Waar Rene Martinus vanuit Gods Woord je wil meenemen hoe de overwinning aan het kruis door de bijbel heen terugkomt.\n\nAgenda:\n\n19:00: inloop\n19:30: start samenkomst\n22:00: einde samenkomst\n\nNa afloop is er tijd om gezellig na te kletsen met wat lekkers erbij!\nWees erbij!
URL:https://www.heartofworship.nl/evenement/how-onderwijzen-4-maart/
LOCATION:Zwolle – Zerboltstraat 63\, Zerboltstraat 63\, Zwolle\, Overijssel\, 8022RW\, Nederland
CATEGORIES:Onderwijzen
ATTACH;FMTTYPE=image/png:https://www.heartofworship.nl/wp-content/uploads/2022/01/Evenement-categorie-onderwijzen.png
ORGANIZER;CN="Heart of Worship":MAILTO:info@heartofworship.nl
END:VEVENT
BEGIN:VEVENT
DTSTART;TZID=Europe/Amsterdam:20220225T190000
DTEND;TZID=Europe/Amsterdam:20220225T220000
DTSTAMP:20260422T003820
CREATED:20220127T170416Z
LAST-MODIFIED:20220219T075822Z
UID:686-1645815600-1645826400@www.heartofworship.nl
SUMMARY:HOW-onderwijzen-25-februari
DESCRIPTION:Wees welkom bij een nieuwe Heart of Worship avond met als thema: ‘De kern van de Bijbelse boodschap‘. Waar Rico Vledder vanuit Gods Woord wil laten zien wat de kern van de bijbelse boodschap is.\n\nAgenda:\n\n18:30: avondeten\n19:15: inloop\n19:30: start samenkomst\n22:00: einde samenkomst\n\n\nMee eten?\nIn de avond zal er ook avondeten zijn\, wil je mee eten? Dat kan!\n\nDoe dit door via onderstaande inschrijving achter je naam (eten) neer te zetten.\n\n\nNa afloop is er tijd om gezellig na te kletsen met wat lekkers erbij!\nWees erbij!
URL:https://www.heartofworship.nl/evenement/how-onderwijzen-25-februari/
LOCATION:Zwolle – Zerboltstraat 63\, Zerboltstraat 63\, Zwolle\, Overijssel\, 8022RW\, Nederland
CATEGORIES:Onderwijzen
ATTACH;FMTTYPE=image/png:https://www.heartofworship.nl/wp-content/uploads/2022/01/Evenement-categorie-onderwijzen.png
ORGANIZER;CN="Heart of Worship":MAILTO:info@heartofworship.nl
END:VEVENT
BEGIN:VEVENT
DTSTART;TZID=Europe/Amsterdam:20220204T190000
DTEND;TZID=Europe/Amsterdam:20220204T220000
DTSTAMP:20260422T003820
CREATED:20220124T171355Z
LAST-MODIFIED:20220127T165658Z
UID:669-1644001200-1644012000@www.heartofworship.nl
SUMMARY:HOW-onderwijzen-4-februari
DESCRIPTION:Wees welkom bij een nieuwe Heart of Worship avond met als thema: ‘Geestelijke strijd‘. Waar Jos & Dennis vanuit Gods Woord meer inzicht willen geven in de realiteit van de geestelijke wereld en hoe je met praktische bijbelteksten jezelf hier tegen kunt wapenen.\n\nAgenda:\n\n18:30: avondeten\n19:15: inloop\n19:30: start samenkomst\n22:00: einde samenkomst\n\n\nMee eten?\nIn de avond zal er ook avondeten zijn\, wil je mee eten? Dat kan!\n\nDoe dit door via onderstaande inschrijving achter je naam (eten) neer te zetten.\n\n\nNa afloop is er tijd om gezellig na te kletsen met wat lekkers erbij!\nWees erbij!
URL:https://www.heartofworship.nl/evenement/how-onderwijzen-4-februari/
LOCATION:Zwolle – Zerboltstraat 63\, Zerboltstraat 63\, Zwolle\, Overijssel\, 8022RW\, Nederland
CATEGORIES:Onderwijzen
ATTACH;FMTTYPE=image/png:https://www.heartofworship.nl/wp-content/uploads/2022/01/Evenement-categorie-onderwijzen.png
ORGANIZER;CN="Heart of Worship":MAILTO:info@heartofworship.nl
END:VEVENT
BEGIN:VEVENT
DTSTART;TZID=Europe/Amsterdam:20220122T140000
DTEND;TZID=Europe/Amsterdam:20220122T170000
DTSTAMP:20260422T003820
CREATED:20220118T165516Z
LAST-MODIFIED:20220120T201305Z
UID:618-1642860000-1642870800@www.heartofworship.nl
SUMMARY:HOW-aanbidden-22-januari
DESCRIPTION:Inhoud is beschermd.
URL:https://www.heartofworship.nl/evenement/how-aanbidden-22-januari/
LOCATION:Zwolle – Zerboltstraat 63\, Zerboltstraat 63\, Zwolle\, Overijssel\, 8022RW\, Nederland
CATEGORIES:Aanbidden
ORGANIZER;CN="Heart of Worship":MAILTO:info@heartofworship.nl
END:VEVENT
BEGIN:VEVENT
DTSTART;TZID=Europe/Amsterdam:20220108T140000
DTEND;TZID=Europe/Amsterdam:20220108T170000
DTSTAMP:20260422T003820
CREATED:20220104T171828Z
LAST-MODIFIED:20220104T172945Z
UID:362-1641650400-1641661200@www.heartofworship.nl
SUMMARY:HOW-aanbidden-8-Januari
DESCRIPTION:Inhoud is beschermd.
URL:https://www.heartofworship.nl/evenement/how-aanbidden-8-januari/
LOCATION:Zwolle – Zerboltstraat 63\, Zerboltstraat 63\, Zwolle\, Overijssel\, 8022RW\, Nederland
CATEGORIES:Aanbidden
ORGANIZER;CN="Heart of Worship":MAILTO:info@heartofworship.nl
END:VEVENT
END:VCALENDAR