BEGIN:VCALENDAR
VERSION:2.0
PRODID:-// - ECPv6.15.18//NONSGML v1.0//EN
CALSCALE:GREGORIAN
METHOD:PUBLISH
X-ORIGINAL-URL:https://www.heartofworship.nl
X-WR-CALDESC:Evenementen voor 
REFRESH-INTERVAL;VALUE=DURATION:PT1H
X-Robots-Tag:noindex
X-PUBLISHED-TTL:PT1H
BEGIN:VTIMEZONE
TZID:Europe/Amsterdam
BEGIN:DAYLIGHT
TZOFFSETFROM:+0100
TZOFFSETTO:+0200
TZNAME:CEST
DTSTART:20240331T010000
END:DAYLIGHT
BEGIN:STANDARD
TZOFFSETFROM:+0200
TZOFFSETTO:+0100
TZNAME:CET
DTSTART:20241027T010000
END:STANDARD
BEGIN:DAYLIGHT
TZOFFSETFROM:+0100
TZOFFSETTO:+0200
TZNAME:CEST
DTSTART:20250330T010000
END:DAYLIGHT
BEGIN:STANDARD
TZOFFSETFROM:+0200
TZOFFSETTO:+0100
TZNAME:CET
DTSTART:20251026T010000
END:STANDARD
BEGIN:DAYLIGHT
TZOFFSETFROM:+0100
TZOFFSETTO:+0200
TZNAME:CEST
DTSTART:20260329T010000
END:DAYLIGHT
BEGIN:STANDARD
TZOFFSETFROM:+0200
TZOFFSETTO:+0100
TZNAME:CET
DTSTART:20261025T010000
END:STANDARD
END:VTIMEZONE
BEGIN:VEVENT
DTSTART;TZID=Europe/Amsterdam:20250103T193000
DTEND;TZID=Europe/Amsterdam:20250103T220000
DTSTAMP:20260424T025455
CREATED:20250101T135642Z
LAST-MODIFIED:20250101T135642Z
UID:2423-1735932600-1735941600@www.heartofworship.nl
SUMMARY:Getuigenisavond (3 januari)
DESCRIPTION:Vrijdag avond 3 januari starten we het jaar goed met een getuigenisavond! Een avond waar aanbidding en getuigenissen de avond vullen. Zo kunnen we met elkaar onze geloofsreis delen\, elkaar opbouwen\, van elkaar leren en God ontmoeten door elkaars leven. Om te laten zien dat God trouw was in 2024\, maar dat Hij opnieuw trouw zal zijn in 2025. \nVanaf 19:30 is er inloop en 20:00 starten we. Wil je graag meebidden in de voorbede wees dan voor 19:30 aanwezig. Na het eind van de avond is er ruimte om te connecten. \n\nInloop: 19:30\nVoorbede: 19:30 – 19:45\nStart: 20:00\nEinde: 21:30\n\nHopelijk zien we je dan! 🙂
URL:https://www.heartofworship.nl/evenement/getuigenisavond-3-januari/
LOCATION:Zwolle – Jupiterstraat 8-A\, Jupiterstraat 8-A\, Zwolle\, Overijssel\, 8022 RK\, Nederland
CATEGORIES:Bemoedigen
ORGANIZER;CN="Heart of Worship":MAILTO:info@heartofworship.nl
END:VEVENT
BEGIN:VEVENT
DTSTART;TZID=Europe/Amsterdam:20250117T193000
DTEND;TZID=Europe/Amsterdam:20250117T220000
DTSTAMP:20260424T025455
CREATED:20250101T141007Z
LAST-MODIFIED:20250117T120515Z
UID:2425-1737142200-1737151200@www.heartofworship.nl
SUMMARY:Dennis Eiland (17 januari)
DESCRIPTION:Wees welkom bij een nieuwe Heart of Worship avond waarin we de HEER gaan aanbidden! Dennis Eiland zal deze avond bij ons spreken\, we zien er naar uit wat hij gaat delen! \nVanaf 19:30 is er inloop en 20:00 starten we. Wil je graag meebidden in de voorbede wees dan voor 19:30 aanwezig. Na het eind van de avond is er ruimte om te ontmoeten. \n\nInloop: 19:30\nVoorbede: 19:30 – 19:45\nStart: 20:00\nEinde: 21:30\n\nHopelijk zien we je dan!
URL:https://www.heartofworship.nl/evenement/dennis-eiland-17-januari/
LOCATION:Zwolle – Jupiterstraat 8-A\, Jupiterstraat 8-A\, Zwolle\, Overijssel\, 8022 RK\, Nederland
CATEGORIES:Onderwijzen
ATTACH;FMTTYPE=image/jpeg:https://www.heartofworship.nl/wp-content/uploads/2025/01/IMG-20250102-WA0010.jpg
ORGANIZER;CN="Heart of Worship":MAILTO:info@heartofworship.nl
END:VEVENT
BEGIN:VEVENT
DTSTART;TZID=Europe/Amsterdam:20250131T193000
DTEND;TZID=Europe/Amsterdam:20250131T220000
DTSTAMP:20260424T025455
CREATED:20250101T141218Z
LAST-MODIFIED:20250117T120629Z
UID:2427-1738351800-1738360800@www.heartofworship.nl
SUMMARY:Ruben Pols (31 januari)
DESCRIPTION:Wees welkom bij een nieuwe Heart of Worship avond waarin we de HEER gaan aanbidden! Ruben Pols zal deze avond bij ons spreken\, we zien er naar uit wat hij gaat delen! \nVanaf 19:30 is er inloop en 20:00 starten we. Wil je graag meebidden in de voorbede wees dan voor 19:30 aanwezig. Na het eind van de avond is er ruimte om te ontmoeten. \n\nInloop: 19:30\nVoorbede: 19:30 – 19:45\nStart: 20:00\nEinde: 21:30\n\nHopelijk zien we je dan!
URL:https://www.heartofworship.nl/evenement/ruben-pols-31-januari/
LOCATION:Zwolle – Jupiterstraat 8-A\, Jupiterstraat 8-A\, Zwolle\, Overijssel\, 8022 RK\, Nederland
CATEGORIES:Onderwijzen
ATTACH;FMTTYPE=image/jpeg:https://www.heartofworship.nl/wp-content/uploads/2025/01/IMG-20250117-WA0003.jpg
ORGANIZER;CN="Heart of Worship":MAILTO:info@heartofworship.nl
END:VEVENT
END:VCALENDAR