BEGIN:VCALENDAR
VERSION:2.0
PRODID:-// - ECPv6.15.18//NONSGML v1.0//EN
CALSCALE:GREGORIAN
METHOD:PUBLISH
X-ORIGINAL-URL:https://www.heartofworship.nl
X-WR-CALDESC:Evenementen voor 
REFRESH-INTERVAL;VALUE=DURATION:PT1H
X-Robots-Tag:noindex
X-PUBLISHED-TTL:PT1H
BEGIN:VTIMEZONE
TZID:Europe/Amsterdam
BEGIN:DAYLIGHT
TZOFFSETFROM:+0100
TZOFFSETTO:+0200
TZNAME:CEST
DTSTART:20240331T010000
END:DAYLIGHT
BEGIN:STANDARD
TZOFFSETFROM:+0200
TZOFFSETTO:+0100
TZNAME:CET
DTSTART:20241027T010000
END:STANDARD
BEGIN:DAYLIGHT
TZOFFSETFROM:+0100
TZOFFSETTO:+0200
TZNAME:CEST
DTSTART:20250330T010000
END:DAYLIGHT
BEGIN:STANDARD
TZOFFSETFROM:+0200
TZOFFSETTO:+0100
TZNAME:CET
DTSTART:20251026T010000
END:STANDARD
BEGIN:DAYLIGHT
TZOFFSETFROM:+0100
TZOFFSETTO:+0200
TZNAME:CEST
DTSTART:20260329T010000
END:DAYLIGHT
BEGIN:STANDARD
TZOFFSETFROM:+0200
TZOFFSETTO:+0100
TZNAME:CET
DTSTART:20261025T010000
END:STANDARD
END:VTIMEZONE
BEGIN:VEVENT
DTSTART;TZID=Europe/Amsterdam:20250307T193000
DTEND;TZID=Europe/Amsterdam:20250307T220000
DTSTAMP:20260423T230724
CREATED:20250221T114640Z
LAST-MODIFIED:20250226T192148Z
UID:2506-1741375800-1741384800@www.heartofworship.nl
SUMMARY:Doopdienst (7 maart)
DESCRIPTION:Wees welkom bij een nieuwe Heart of Worship avond waar Rick zich laat dopen en waar Dennis kort een woord zal delen over wat de doop inhoudt. Vanaf 19:30 is er inloop en 20:00 starten we. Wil je graag meebidden in de voorbede wees dan voor 19:30 aanwezig. Na het eind van de avond is er ruimte om te ontmoeten. \n\nInloop: 19:30\nVoorbede: 19:30 – 19:45\nStart: 20:00\nEinde: 21:30\n\nHopelijk zien we je dan!
URL:https://www.heartofworship.nl/evenement/doopdienst-7-maart/
LOCATION:Zwolle – Jupiterstraat 8-A\, Jupiterstraat 8-A\, Zwolle\, Overijssel\, 8022 RK\, Nederland
CATEGORIES:Aanbidden
ATTACH;FMTTYPE=image/jpeg:https://www.heartofworship.nl/wp-content/uploads/2025/02/IMG-20250226-WA0003.jpg
ORGANIZER;CN="Heart of Worship":MAILTO:info@heartofworship.nl
END:VEVENT
BEGIN:VEVENT
DTSTART;TZID=Europe/Amsterdam:20250328T193000
DTEND;TZID=Europe/Amsterdam:20250328T220000
DTSTAMP:20260423T230724
CREATED:20250222T093532Z
LAST-MODIFIED:20250326T180846Z
UID:2520-1743190200-1743199200@www.heartofworship.nl
SUMMARY:Getuigenisavond (28 maart)
DESCRIPTION:Wees welkom bij een nieuwe Heart of Worship avond waarin we de HEER gaan aanbidden! \nEr is deze avond ruimte om je getuigenis te delen! \nVanaf 19:30 is er inloop en 20:00 starten we. Wil je graag meebidden in de voorbede wees dan voor 19:30 aanwezig. Na het eind van de avond is er ruimte om te ontmoeten. \n\nInloop: 19:30\nVoorbede: 19:30 – 19:45\nStart: 20:00\nEinde: 21:30\n\nHopelijk zien we je dan!
URL:https://www.heartofworship.nl/evenement/getuigenisavond-28-maart/
LOCATION:Zwolle – Jupiterstraat 8-A\, Jupiterstraat 8-A\, Zwolle\, Overijssel\, 8022 RK\, Nederland
CATEGORIES:Aanbidden
ATTACH;FMTTYPE=image/jpeg:https://www.heartofworship.nl/wp-content/uploads/2025/02/IMG-20250326-WA0003.jpg
ORGANIZER;CN="Heart of Worship":MAILTO:info@heartofworship.nl
END:VEVENT
END:VCALENDAR